BEGIN:VCALENDAR
VERSION:2.0
PRODID:-//Overbergschule - ECPv6.15.20//NONSGML v1.0//EN
CALSCALE:GREGORIAN
METHOD:PUBLISH
X-WR-CALNAME:Overbergschule
X-ORIGINAL-URL:https://overbergschule.de
X-WR-CALDESC:Veranstaltungen für Overbergschule
REFRESH-INTERVAL;VALUE=DURATION:PT1H
X-Robots-Tag:noindex
X-PUBLISHED-TTL:PT1H
BEGIN:VTIMEZONE
TZID:Europe/Berlin
BEGIN:DAYLIGHT
TZOFFSETFROM:+0100
TZOFFSETTO:+0200
TZNAME:CEST
DTSTART:20240331T010000
END:DAYLIGHT
BEGIN:STANDARD
TZOFFSETFROM:+0200
TZOFFSETTO:+0100
TZNAME:CET
DTSTART:20241027T010000
END:STANDARD
BEGIN:DAYLIGHT
TZOFFSETFROM:+0100
TZOFFSETTO:+0200
TZNAME:CEST
DTSTART:20250330T010000
END:DAYLIGHT
BEGIN:STANDARD
TZOFFSETFROM:+0200
TZOFFSETTO:+0100
TZNAME:CET
DTSTART:20251026T010000
END:STANDARD
BEGIN:DAYLIGHT
TZOFFSETFROM:+0100
TZOFFSETTO:+0200
TZNAME:CEST
DTSTART:20260329T010000
END:DAYLIGHT
BEGIN:STANDARD
TZOFFSETFROM:+0200
TZOFFSETTO:+0100
TZNAME:CET
DTSTART:20261025T010000
END:STANDARD
END:VTIMEZONE
BEGIN:VEVENT
DTSTART;VALUE=DATE:20250606
DTEND;VALUE=DATE:20250607
DTSTAMP:20260421T143429
CREATED:20241112T102349Z
LAST-MODIFIED:20241112T102349Z
UID:7954-1749168000-1749254399@overbergschule.de
SUMMARY:Sportfest
DESCRIPTION:
URL:https://overbergschule.de/event/sportfest-5/
END:VEVENT
BEGIN:VEVENT
DTSTART;VALUE=DATE:20250609
DTEND;VALUE=DATE:20250610
DTSTAMP:20260421T143429
CREATED:20241112T102429Z
LAST-MODIFIED:20241112T102429Z
UID:7957-1749427200-1749513599@overbergschule.de
SUMMARY:Pfingstmontag (unterrichtsfrei)
DESCRIPTION:
URL:https://overbergschule.de/event/pfingstmontag-unterrichtsfrei-2/
END:VEVENT
BEGIN:VEVENT
DTSTART;VALUE=DATE:20250610
DTEND;VALUE=DATE:20250611
DTSTAMP:20260421T143429
CREATED:20241112T102511Z
LAST-MODIFIED:20241112T102511Z
UID:7960-1749513600-1749599999@overbergschule.de
SUMMARY:Pfingstferien (unterrichtsfrei)
DESCRIPTION:
URL:https://overbergschule.de/event/pfingstferien-unterrichtsfrei/
END:VEVENT
BEGIN:VEVENT
DTSTART;TZID=Europe/Berlin:20250614T100000
DTEND;TZID=Europe/Berlin:20250614T120000
DTSTAMP:20260421T143429
CREATED:20250313T082158Z
LAST-MODIFIED:20250313T082158Z
UID:8061-1749895200-1749902400@overbergschule.de
SUMMARY:Tag der Offenen Tür
DESCRIPTION:
URL:https://overbergschule.de/event/tag-der-offenen-tuer-4/
END:VEVENT
BEGIN:VEVENT
DTSTART;VALUE=DATE:20250619
DTEND;VALUE=DATE:20250620
DTSTAMP:20260421T143429
CREATED:20241112T102601Z
LAST-MODIFIED:20241112T102601Z
UID:7963-1750291200-1750377599@overbergschule.de
SUMMARY:Fronleichnam (unterrichtsfrei)
DESCRIPTION:
URL:https://overbergschule.de/event/fronleichnam-unterrichtsfrei-4/
END:VEVENT
BEGIN:VEVENT
DTSTART;VALUE=DATE:20250620
DTEND;VALUE=DATE:20250621
DTSTAMP:20260421T143429
CREATED:20241112T102632Z
LAST-MODIFIED:20241112T102632Z
UID:7966-1750377600-1750463999@overbergschule.de
SUMMARY:Bewegl. Ferientag
DESCRIPTION:
URL:https://overbergschule.de/event/bewegl-ferientag-4/
END:VEVENT
BEGIN:VEVENT
DTSTART;TZID=Europe/Berlin:20250627T160000
DTEND;TZID=Europe/Berlin:20250627T190000
DTSTAMP:20260421T143429
CREATED:20241112T102731Z
LAST-MODIFIED:20241112T102731Z
UID:7969-1751040000-1751050800@overbergschule.de
SUMMARY:Schulfest 130 Jahre Overbergschule
DESCRIPTION:
URL:https://overbergschule.de/event/schulfest-130-jahre-overbergschule/
END:VEVENT
END:VCALENDAR