BEGIN:VCALENDAR
VERSION:2.0
PRODID:-//Overbergschule - ECPv6.15.20//NONSGML v1.0//EN
CALSCALE:GREGORIAN
METHOD:PUBLISH
X-ORIGINAL-URL:https://overbergschule.de
X-WR-CALDESC:Veranstaltungen für Overbergschule
REFRESH-INTERVAL;VALUE=DURATION:PT1H
X-Robots-Tag:noindex
X-PUBLISHED-TTL:PT1H
BEGIN:VTIMEZONE
TZID:Europe/Berlin
BEGIN:DAYLIGHT
TZOFFSETFROM:+0100
TZOFFSETTO:+0200
TZNAME:CEST
DTSTART:20230326T010000
END:DAYLIGHT
BEGIN:STANDARD
TZOFFSETFROM:+0200
TZOFFSETTO:+0100
TZNAME:CET
DTSTART:20231029T010000
END:STANDARD
BEGIN:DAYLIGHT
TZOFFSETFROM:+0100
TZOFFSETTO:+0200
TZNAME:CEST
DTSTART:20240331T010000
END:DAYLIGHT
BEGIN:STANDARD
TZOFFSETFROM:+0200
TZOFFSETTO:+0100
TZNAME:CET
DTSTART:20241027T010000
END:STANDARD
BEGIN:DAYLIGHT
TZOFFSETFROM:+0100
TZOFFSETTO:+0200
TZNAME:CEST
DTSTART:20250330T010000
END:DAYLIGHT
BEGIN:STANDARD
TZOFFSETFROM:+0200
TZOFFSETTO:+0100
TZNAME:CET
DTSTART:20251026T010000
END:STANDARD
END:VTIMEZONE
BEGIN:VEVENT
DTSTART;VALUE=DATE:20240708
DTEND;VALUE=DATE:20240821
DTSTAMP:20260421T130743
CREATED:20240116T170624Z
LAST-MODIFIED:20240116T170624Z
UID:7689-1720396800-1724198399@overbergschule.de
SUMMARY:Sommerferien
DESCRIPTION:
URL:https://overbergschule.de/event/sommerferien-5/
END:VEVENT
BEGIN:VEVENT
DTSTART;TZID=Europe/Berlin:20240820T100000
DTEND;TZID=Europe/Berlin:20240820T130000
DTSTAMP:20260421T130743
CREATED:20240116T170711Z
LAST-MODIFIED:20240116T170711Z
UID:7692-1724148000-1724158800@overbergschule.de
SUMMARY:Einschulungsgottesdienst
DESCRIPTION:
URL:https://overbergschule.de/event/einschulungsgottesdienst-2/
END:VEVENT
BEGIN:VEVENT
DTSTART;VALUE=DATE:20240822
DTEND;VALUE=DATE:20240823
DTSTAMP:20260421T130743
CREATED:20240822T154954Z
LAST-MODIFIED:20240822T154954Z
UID:7833-1724284800-1724371199@overbergschule.de
SUMMARY:Zeugnisausgabe (Klasse 3/4)
DESCRIPTION:
URL:https://overbergschule.de/event/zeugnisausgabe-klasse-3-4-2/
END:VEVENT
BEGIN:VEVENT
DTSTART;TZID=Europe/Berlin:20240827T180000
DTEND;TZID=Europe/Berlin:20240827T200000
DTSTAMP:20260421T130743
CREATED:20240822T151444Z
LAST-MODIFIED:20240822T151444Z
UID:7749-1724781600-1724788800@overbergschule.de
SUMMARY:Klassenpflegschaft Herbst/Winter
DESCRIPTION:
URL:https://overbergschule.de/event/klassenpflegschaft-herbst-winter-3/
END:VEVENT
BEGIN:VEVENT
DTSTART;VALUE=DATE:20240829
DTEND;VALUE=DATE:20240830
DTSTAMP:20260421T130743
CREATED:20240822T151621Z
LAST-MODIFIED:20240822T151643Z
UID:7752-1724889600-1724975999@overbergschule.de
SUMMARY:Tag des Hagener Schulfußballs (Klasse 4)
DESCRIPTION:
URL:https://overbergschule.de/event/tag-des-hagener-schulfussballs-klasse-4/
END:VEVENT
BEGIN:VEVENT
DTSTART;TZID=Europe/Berlin:20240829T180000
DTEND;TZID=Europe/Berlin:20240829T200000
DTSTAMP:20260421T130743
CREATED:20240822T151733Z
LAST-MODIFIED:20240822T151733Z
UID:7755-1724954400-1724961600@overbergschule.de
SUMMARY:Klassenpflegschaft Frühling Sommer
DESCRIPTION:
URL:https://overbergschule.de/event/klassenpflegschaft-fruehling-sommer-2/
END:VEVENT
END:VCALENDAR