BEGIN:VCALENDAR
VERSION:2.0
PRODID:-//Overbergschule - ECPv6.15.20//NONSGML v1.0//EN
CALSCALE:GREGORIAN
METHOD:PUBLISH
X-WR-CALNAME:Overbergschule
X-ORIGINAL-URL:https://overbergschule.de
X-WR-CALDESC:Veranstaltungen für Overbergschule
REFRESH-INTERVAL;VALUE=DURATION:PT1H
X-Robots-Tag:noindex
X-PUBLISHED-TTL:PT1H
BEGIN:VTIMEZONE
TZID:Europe/Berlin
BEGIN:DAYLIGHT
TZOFFSETFROM:+0100
TZOFFSETTO:+0200
TZNAME:CEST
DTSTART:20230326T010000
END:DAYLIGHT
BEGIN:STANDARD
TZOFFSETFROM:+0200
TZOFFSETTO:+0100
TZNAME:CET
DTSTART:20231029T010000
END:STANDARD
BEGIN:DAYLIGHT
TZOFFSETFROM:+0100
TZOFFSETTO:+0200
TZNAME:CEST
DTSTART:20240331T010000
END:DAYLIGHT
BEGIN:STANDARD
TZOFFSETFROM:+0200
TZOFFSETTO:+0100
TZNAME:CET
DTSTART:20241027T010000
END:STANDARD
BEGIN:DAYLIGHT
TZOFFSETFROM:+0100
TZOFFSETTO:+0200
TZNAME:CEST
DTSTART:20250330T010000
END:DAYLIGHT
BEGIN:STANDARD
TZOFFSETFROM:+0200
TZOFFSETTO:+0100
TZNAME:CET
DTSTART:20251026T010000
END:STANDARD
END:VTIMEZONE
BEGIN:VEVENT
DTSTART;VALUE=DATE:20240607
DTEND;VALUE=DATE:20240608
DTSTAMP:20260421T155647
CREATED:20240116T165731Z
LAST-MODIFIED:20240116T165731Z
UID:7662-1717718400-1717804799@overbergschule.de
SUMMARY:Sportfest
DESCRIPTION:
URL:https://overbergschule.de/event/sportfest-4/
END:VEVENT
BEGIN:VEVENT
DTSTART;TZID=Europe/Berlin:20240614T110000
DTEND;TZID=Europe/Berlin:20240614T130000
DTSTAMP:20260421T155647
CREATED:20240116T165812Z
LAST-MODIFIED:20240116T170000Z
UID:7665-1718362800-1718370000@overbergschule.de
SUMMARY:Tag der Offenen Tür
DESCRIPTION:
URL:https://overbergschule.de/event/tag-der-offenen-tuer-3/
END:VEVENT
BEGIN:VEVENT
DTSTART;TZID=Europe/Berlin:20240619T160000
DTEND;TZID=Europe/Berlin:20240619T170000
DTSTAMP:20260421T155647
CREATED:20240116T170105Z
LAST-MODIFIED:20240116T170105Z
UID:7668-1718812800-1718816400@overbergschule.de
SUMMARY:Musicalaufführung
DESCRIPTION:
URL:https://overbergschule.de/event/musicalauffuehrung-2/
END:VEVENT
BEGIN:VEVENT
DTSTART;TZID=Europe/Berlin:20240620T180000
DTEND;TZID=Europe/Berlin:20240620T193000
DTSTAMP:20260421T155647
CREATED:20240116T170159Z
LAST-MODIFIED:20240116T170159Z
UID:7671-1718906400-1718911800@overbergschule.de
SUMMARY:2. Elternabend 0 vor der Einschulung
DESCRIPTION:
URL:https://overbergschule.de/event/2-elternabend-0-vor-der-einschulung-2/
END:VEVENT
BEGIN:VEVENT
DTSTART;TZID=Europe/Berlin:20240621T160000
DTEND;TZID=Europe/Berlin:20240621T190000
DTSTAMP:20260421T155647
CREATED:20240116T170245Z
LAST-MODIFIED:20240116T170245Z
UID:7674-1718985600-1718996400@overbergschule.de
SUMMARY:Schulfest
DESCRIPTION:
URL:https://overbergschule.de/event/schulfest-4/
END:VEVENT
BEGIN:VEVENT
DTSTART;TZID=Europe/Berlin:20240628T080000
DTEND;TZID=Europe/Berlin:20240628T090000
DTSTAMP:20260421T155647
CREATED:20240116T170333Z
LAST-MODIFIED:20240116T170333Z
UID:7677-1719561600-1719565200@overbergschule.de
SUMMARY:Waffelbacken (Sommer)
DESCRIPTION:
URL:https://overbergschule.de/event/waffelbacken-sommer-8/
END:VEVENT
END:VCALENDAR