BEGIN:VCALENDAR
VERSION:2.0
PRODID:-//Overbergschule - ECPv6.15.20//NONSGML v1.0//EN
CALSCALE:GREGORIAN
METHOD:PUBLISH
X-WR-CALNAME:Overbergschule
X-ORIGINAL-URL:https://overbergschule.de
X-WR-CALDESC:Veranstaltungen für Overbergschule
REFRESH-INTERVAL;VALUE=DURATION:PT1H
X-Robots-Tag:noindex
X-PUBLISHED-TTL:PT1H
BEGIN:VTIMEZONE
TZID:Europe/Berlin
BEGIN:DAYLIGHT
TZOFFSETFROM:+0100
TZOFFSETTO:+0200
TZNAME:CEST
DTSTART:20230326T010000
END:DAYLIGHT
BEGIN:STANDARD
TZOFFSETFROM:+0200
TZOFFSETTO:+0100
TZNAME:CET
DTSTART:20231029T010000
END:STANDARD
BEGIN:DAYLIGHT
TZOFFSETFROM:+0100
TZOFFSETTO:+0200
TZNAME:CEST
DTSTART:20240331T010000
END:DAYLIGHT
BEGIN:STANDARD
TZOFFSETFROM:+0200
TZOFFSETTO:+0100
TZNAME:CET
DTSTART:20241027T010000
END:STANDARD
BEGIN:DAYLIGHT
TZOFFSETFROM:+0100
TZOFFSETTO:+0200
TZNAME:CEST
DTSTART:20250330T010000
END:DAYLIGHT
BEGIN:STANDARD
TZOFFSETFROM:+0200
TZOFFSETTO:+0100
TZNAME:CET
DTSTART:20251026T010000
END:STANDARD
END:VTIMEZONE
BEGIN:VEVENT
DTSTART;TZID=Europe/Berlin:20240307T180000
DTEND;TZID=Europe/Berlin:20240307T200000
DTSTAMP:20260421T195331
CREATED:20230920T111407Z
LAST-MODIFIED:20230920T111407Z
UID:7443-1709834400-1709841600@overbergschule.de
SUMMARY:2. Schulkonferenz
DESCRIPTION:
URL:https://overbergschule.de/event/2-schulkonferenz-3/
END:VEVENT
BEGIN:VEVENT
DTSTART;VALUE=DATE:20240311
DTEND;VALUE=DATE:20240316
DTSTAMP:20260421T195331
CREATED:20230920T111444Z
LAST-MODIFIED:20230920T111444Z
UID:7446-1710115200-1710547199@overbergschule.de
SUMMARY:Elternsprechwoche (Leistungen)
DESCRIPTION:
URL:https://overbergschule.de/event/elternsprechwoche-leistungen/
END:VEVENT
BEGIN:VEVENT
DTSTART;TZID=Europe/Berlin:20240321T180000
DTEND;TZID=Europe/Berlin:20240321T190000
DTSTAMP:20260421T195331
CREATED:20230920T111545Z
LAST-MODIFIED:20230920T111545Z
UID:7449-1711044000-1711047600@overbergschule.de
SUMMARY:1. Elternabend neue Schulanfänger
DESCRIPTION:
URL:https://overbergschule.de/event/1-elternabend-neue-schulanfaenger-2/
END:VEVENT
BEGIN:VEVENT
DTSTART;TZID=Europe/Berlin:20240322T101500
DTEND;TZID=Europe/Berlin:20240322T113000
DTSTAMP:20260421T195331
CREATED:20230920T111656Z
LAST-MODIFIED:20230920T111656Z
UID:7452-1711102500-1711107000@overbergschule.de
SUMMARY:Kreuzweggottesdienst
DESCRIPTION:
URL:https://overbergschule.de/event/kreuzweggottesdienst-3/
END:VEVENT
BEGIN:VEVENT
DTSTART;VALUE=DATE:20240323
DTEND;VALUE=DATE:20240407
DTSTAMP:20260421T195331
CREATED:20230920T111810Z
LAST-MODIFIED:20230920T112111Z
UID:7455-1711152000-1712447999@overbergschule.de
SUMMARY:Osterferien
DESCRIPTION:
URL:https://overbergschule.de/event/osterferien-4/
END:VEVENT
END:VCALENDAR