BEGIN:VCALENDAR
VERSION:2.0
PRODID:-//Overbergschule - ECPv6.15.20//NONSGML v1.0//EN
CALSCALE:GREGORIAN
METHOD:PUBLISH
X-WR-CALNAME:Overbergschule
X-ORIGINAL-URL:https://overbergschule.de
X-WR-CALDESC:Veranstaltungen für Overbergschule
REFRESH-INTERVAL;VALUE=DURATION:PT1H
X-Robots-Tag:noindex
X-PUBLISHED-TTL:PT1H
BEGIN:VTIMEZONE
TZID:Europe/Berlin
BEGIN:DAYLIGHT
TZOFFSETFROM:+0100
TZOFFSETTO:+0200
TZNAME:CEST
DTSTART:20220327T010000
END:DAYLIGHT
BEGIN:STANDARD
TZOFFSETFROM:+0200
TZOFFSETTO:+0100
TZNAME:CET
DTSTART:20221030T010000
END:STANDARD
BEGIN:DAYLIGHT
TZOFFSETFROM:+0100
TZOFFSETTO:+0200
TZNAME:CEST
DTSTART:20230326T010000
END:DAYLIGHT
BEGIN:STANDARD
TZOFFSETFROM:+0200
TZOFFSETTO:+0100
TZNAME:CET
DTSTART:20231029T010000
END:STANDARD
BEGIN:DAYLIGHT
TZOFFSETFROM:+0100
TZOFFSETTO:+0200
TZNAME:CEST
DTSTART:20240331T010000
END:DAYLIGHT
BEGIN:STANDARD
TZOFFSETFROM:+0200
TZOFFSETTO:+0100
TZNAME:CET
DTSTART:20241027T010000
END:STANDARD
BEGIN:DAYLIGHT
TZOFFSETFROM:+0100
TZOFFSETTO:+0200
TZNAME:CEST
DTSTART:20250330T010000
END:DAYLIGHT
BEGIN:STANDARD
TZOFFSETFROM:+0200
TZOFFSETTO:+0100
TZNAME:CET
DTSTART:20251026T010000
END:STANDARD
END:VTIMEZONE
BEGIN:VEVENT
DTSTART;VALUE=DATE:20231221
DTEND;VALUE=DATE:20240107
DTSTAMP:20260421T223148
CREATED:20230824T061028Z
LAST-MODIFIED:20230824T061028Z
UID:7394-1703116800-1704585599@overbergschule.de
SUMMARY:Weihnachtsferien
DESCRIPTION:
URL:https://overbergschule.de/event/weihnachtsferien-5/
END:VEVENT
BEGIN:VEVENT
DTSTART;TZID=Europe/Berlin:20240112T080000
DTEND;TZID=Europe/Berlin:20240112T090000
DTSTAMP:20260421T223148
CREATED:20230824T061103Z
LAST-MODIFIED:20230824T061103Z
UID:7397-1705046400-1705050000@overbergschule.de
SUMMARY:Waffelbacken (Herbst)
DESCRIPTION:
URL:https://overbergschule.de/event/waffelbacken-herbst-7/
END:VEVENT
BEGIN:VEVENT
DTSTART;VALUE=DATE:20240122
DTEND;VALUE=DATE:20240127
DTSTAMP:20260421T223148
CREATED:20230824T061136Z
LAST-MODIFIED:20230824T061136Z
UID:7400-1705881600-1706313599@overbergschule.de
SUMMARY:2. Kindersprechwoche
DESCRIPTION:
URL:https://overbergschule.de/event/2-kindersprechwoche-3/
END:VEVENT
BEGIN:VEVENT
DTSTART;VALUE=DATE:20240125
DTEND;VALUE=DATE:20240126
DTSTAMP:20260421T223148
CREATED:20230824T061234Z
LAST-MODIFIED:20230824T061234Z
UID:7403-1706140800-1706227199@overbergschule.de
SUMMARY:Zeugnisausgabe (Klasse 3 und 4)
DESCRIPTION:
URL:https://overbergschule.de/event/zeugnisausgabe-klasse-3-und-4-2/
END:VEVENT
BEGIN:VEVENT
DTSTART;VALUE=DATE:20240129
DTEND;VALUE=DATE:20240130
DTSTAMP:20260421T223148
CREATED:20230824T061345Z
LAST-MODIFIED:20230824T061345Z
UID:7409-1706486400-1706572799@overbergschule.de
SUMMARY:Pädagogischer Tag (unterrichtsfrei)
DESCRIPTION:
URL:https://overbergschule.de/event/paedagogischer-tag-unterrichtsfrei-5/
END:VEVENT
END:VCALENDAR