BEGIN:VCALENDAR
VERSION:2.0
PRODID:-//Overbergschule - ECPv6.15.20//NONSGML v1.0//EN
CALSCALE:GREGORIAN
METHOD:PUBLISH
X-ORIGINAL-URL:https://overbergschule.de
X-WR-CALDESC:Veranstaltungen für Overbergschule
REFRESH-INTERVAL;VALUE=DURATION:PT1H
X-Robots-Tag:noindex
X-PUBLISHED-TTL:PT1H
BEGIN:VTIMEZONE
TZID:Europe/Berlin
BEGIN:DAYLIGHT
TZOFFSETFROM:+0100
TZOFFSETTO:+0200
TZNAME:CEST
DTSTART:20220327T010000
END:DAYLIGHT
BEGIN:STANDARD
TZOFFSETFROM:+0200
TZOFFSETTO:+0100
TZNAME:CET
DTSTART:20221030T010000
END:STANDARD
BEGIN:DAYLIGHT
TZOFFSETFROM:+0100
TZOFFSETTO:+0200
TZNAME:CEST
DTSTART:20230326T010000
END:DAYLIGHT
BEGIN:STANDARD
TZOFFSETFROM:+0200
TZOFFSETTO:+0100
TZNAME:CET
DTSTART:20231029T010000
END:STANDARD
BEGIN:DAYLIGHT
TZOFFSETFROM:+0100
TZOFFSETTO:+0200
TZNAME:CEST
DTSTART:20240331T010000
END:DAYLIGHT
BEGIN:STANDARD
TZOFFSETFROM:+0200
TZOFFSETTO:+0100
TZNAME:CET
DTSTART:20241027T010000
END:STANDARD
BEGIN:DAYLIGHT
TZOFFSETFROM:+0100
TZOFFSETTO:+0200
TZNAME:CEST
DTSTART:20250330T010000
END:DAYLIGHT
BEGIN:STANDARD
TZOFFSETFROM:+0200
TZOFFSETTO:+0100
TZNAME:CET
DTSTART:20251026T010000
END:STANDARD
END:VTIMEZONE
BEGIN:VEVENT
DTSTART;TZID=Europe/Berlin:20231201T080000
DTEND;TZID=Europe/Berlin:20231201T090000
DTSTAMP:20260421T235044
CREATED:20230824T060504Z
LAST-MODIFIED:20230824T060504Z
UID:7373-1701417600-1701421200@overbergschule.de
SUMMARY:Waffelbacken (Frühling)
DESCRIPTION:
URL:https://overbergschule.de/event/waffelbacken-fruehling-6/
END:VEVENT
BEGIN:VEVENT
DTSTART;TZID=Europe/Berlin:20231201T083000
DTEND;TZID=Europe/Berlin:20231201T085000
DTSTAMP:20260421T235044
CREATED:20230824T060437Z
LAST-MODIFIED:20230824T060437Z
UID:7370-1701419400-1701420600@overbergschule.de
SUMMARY:Adventssingen (Herbst)
DESCRIPTION:
URL:https://overbergschule.de/event/adventssingen-herbst-2/
END:VEVENT
BEGIN:VEVENT
DTSTART;TZID=Europe/Berlin:20231204T083000
DTEND;TZID=Europe/Berlin:20231204T085000
DTSTAMP:20260421T235044
CREATED:20230824T060559Z
LAST-MODIFIED:20230824T060559Z
UID:7376-1701678600-1701679800@overbergschule.de
SUMMARY:Adventssingen (Winter)
DESCRIPTION:
URL:https://overbergschule.de/event/adventssingen-winter-2/
END:VEVENT
BEGIN:VEVENT
DTSTART;TZID=Europe/Berlin:20231209T110000
DTEND;TZID=Europe/Berlin:20231209T120000
DTSTAMP:20260421T235044
CREATED:20230824T060640Z
LAST-MODIFIED:20231208T121104Z
UID:7379-1702119600-1702123200@overbergschule.de
SUMMARY:Fest der Musik
DESCRIPTION:
URL:https://overbergschule.de/event/fest-der-musik-4/
END:VEVENT
BEGIN:VEVENT
DTSTART;TZID=Europe/Berlin:20231211T083000
DTEND;TZID=Europe/Berlin:20231211T085000
DTSTAMP:20260421T235044
CREATED:20230824T060715Z
LAST-MODIFIED:20230824T060715Z
UID:7382-1702283400-1702284600@overbergschule.de
SUMMARY:Adventssingen Frühling
DESCRIPTION:
URL:https://overbergschule.de/event/adventssingen-fruehling-2/
END:VEVENT
BEGIN:VEVENT
DTSTART;TZID=Europe/Berlin:20231213T160000
DTEND;TZID=Europe/Berlin:20231213T190000
DTSTAMP:20260421T235044
CREATED:20230824T060806Z
LAST-MODIFIED:20230824T060806Z
UID:7385-1702483200-1702494000@overbergschule.de
SUMMARY:Weihnachtsfeier
DESCRIPTION:
URL:https://overbergschule.de/event/weihnachtsfeier-3/
END:VEVENT
BEGIN:VEVENT
DTSTART;TZID=Europe/Berlin:20231215T080000
DTEND;TZID=Europe/Berlin:20231215T090000
DTSTAMP:20260421T235044
CREATED:20230824T060843Z
LAST-MODIFIED:20230824T060843Z
UID:7388-1702627200-1702630800@overbergschule.de
SUMMARY:Waffelbacken (Sommer)
DESCRIPTION:
URL:https://overbergschule.de/event/waffelbacken-sommer-6/
END:VEVENT
BEGIN:VEVENT
DTSTART;TZID=Europe/Berlin:20231218T083000
DTEND;TZID=Europe/Berlin:20231218T085000
DTSTAMP:20260421T235044
CREATED:20230824T060929Z
LAST-MODIFIED:20230824T060929Z
UID:7391-1702888200-1702889400@overbergschule.de
SUMMARY:Adventssingen (Sommer)
DESCRIPTION:
URL:https://overbergschule.de/event/adventssingen-sommer-2/
END:VEVENT
BEGIN:VEVENT
DTSTART;TZID=Europe/Berlin:20231220T080000
DTEND;TZID=Europe/Berlin:20231220T110000
DTSTAMP:20260421T235044
CREATED:20230906T095204Z
LAST-MODIFIED:20230920T063528Z
UID:7412-1703059200-1703070000@overbergschule.de
SUMMARY:Besuch Weihnachtsmärchen (im Anschluss kein Unterricht mehr)
DESCRIPTION:
URL:https://overbergschule.de/event/besuch-weihnachtsmaerchen-2/
END:VEVENT
BEGIN:VEVENT
DTSTART;VALUE=DATE:20231221
DTEND;VALUE=DATE:20240107
DTSTAMP:20260421T235044
CREATED:20230824T061028Z
LAST-MODIFIED:20230824T061028Z
UID:7394-1703116800-1704585599@overbergschule.de
SUMMARY:Weihnachtsferien
DESCRIPTION:
URL:https://overbergschule.de/event/weihnachtsferien-5/
END:VEVENT
END:VCALENDAR