BEGIN:VCALENDAR
VERSION:2.0
PRODID:-//Overbergschule - ECPv6.15.20//NONSGML v1.0//EN
CALSCALE:GREGORIAN
METHOD:PUBLISH
X-ORIGINAL-URL:https://overbergschule.de
X-WR-CALDESC:Veranstaltungen für Overbergschule
REFRESH-INTERVAL;VALUE=DURATION:PT1H
X-Robots-Tag:noindex
X-PUBLISHED-TTL:PT1H
BEGIN:VTIMEZONE
TZID:Europe/Berlin
BEGIN:DAYLIGHT
TZOFFSETFROM:+0100
TZOFFSETTO:+0200
TZNAME:CEST
DTSTART:20220327T010000
END:DAYLIGHT
BEGIN:STANDARD
TZOFFSETFROM:+0200
TZOFFSETTO:+0100
TZNAME:CET
DTSTART:20221030T010000
END:STANDARD
BEGIN:DAYLIGHT
TZOFFSETFROM:+0100
TZOFFSETTO:+0200
TZNAME:CEST
DTSTART:20230326T010000
END:DAYLIGHT
BEGIN:STANDARD
TZOFFSETFROM:+0200
TZOFFSETTO:+0100
TZNAME:CET
DTSTART:20231029T010000
END:STANDARD
BEGIN:DAYLIGHT
TZOFFSETFROM:+0100
TZOFFSETTO:+0200
TZNAME:CEST
DTSTART:20240331T010000
END:DAYLIGHT
BEGIN:STANDARD
TZOFFSETFROM:+0200
TZOFFSETTO:+0100
TZNAME:CET
DTSTART:20241027T010000
END:STANDARD
END:VTIMEZONE
BEGIN:VEVENT
DTSTART;VALUE=DATE:20231101
DTEND;VALUE=DATE:20231102
DTSTAMP:20260422T011821
CREATED:20230824T060012Z
LAST-MODIFIED:20230824T060012Z
UID:7349-1698796800-1698883199@overbergschule.de
SUMMARY:Allerheiligen (unterrichtsfrei)
DESCRIPTION:
URL:https://overbergschule.de/event/allerheiligen-unterrichtsfrei-2/
END:VEVENT
BEGIN:VEVENT
DTSTART;VALUE=DATE:20231102
DTEND;VALUE=DATE:20231103
DTSTAMP:20260422T011821
CREATED:20230824T060041Z
LAST-MODIFIED:20230824T060041Z
UID:7352-1698883200-1698969599@overbergschule.de
SUMMARY:Pädagogischer Tag (unterrichtsfrei)
DESCRIPTION:
URL:https://overbergschule.de/event/paedagogischer-tag-unterrichtsfrei-4/
END:VEVENT
BEGIN:VEVENT
DTSTART;VALUE=DATE:20231106
DTEND;VALUE=DATE:20231111
DTSTAMP:20260422T011821
CREATED:20230824T060150Z
LAST-MODIFIED:20230824T060150Z
UID:7358-1699228800-1699660799@overbergschule.de
SUMMARY:1. Kindersprechwoche
DESCRIPTION:
URL:https://overbergschule.de/event/1-kindersprechwoche-2/
END:VEVENT
BEGIN:VEVENT
DTSTART;TZID=Europe/Berlin:20231106T080000
DTEND;TZID=Europe/Berlin:20231106T120000
DTSTAMP:20260422T011821
CREATED:20230920T063040Z
LAST-MODIFIED:20230920T063040Z
UID:7417-1699257600-1699272000@overbergschule.de
SUMMARY:Handball-Aktionstag (Klasse 1 und 2)
DESCRIPTION:
URL:https://overbergschule.de/event/handball-aktionstag-klasse-1-und-2/
END:VEVENT
BEGIN:VEVENT
DTSTART;VALUE=DATE:20231117
DTEND;VALUE=DATE:20231118
DTSTAMP:20260422T011821
CREATED:20230824T060235Z
LAST-MODIFIED:20230824T060235Z
UID:7361-1700179200-1700265599@overbergschule.de
SUMMARY:Vorlesetag
DESCRIPTION:
URL:https://overbergschule.de/event/vorlesetag-5/
END:VEVENT
BEGIN:VEVENT
DTSTART;TZID=Europe/Berlin:20231117T080000
DTEND;TZID=Europe/Berlin:20231117T090000
DTSTAMP:20260422T011821
CREATED:20230824T060306Z
LAST-MODIFIED:20230824T060306Z
UID:7364-1700208000-1700211600@overbergschule.de
SUMMARY:Waffelbacken (Winter)
DESCRIPTION:
URL:https://overbergschule.de/event/waffelbacken-winter-5/
END:VEVENT
BEGIN:VEVENT
DTSTART;VALUE=DATE:20231129
DTEND;VALUE=DATE:20231130
DTSTAMP:20260422T011821
CREATED:20230824T060348Z
LAST-MODIFIED:20230824T060348Z
UID:7367-1701216000-1701302399@overbergschule.de
SUMMARY:Adventstag
DESCRIPTION:
URL:https://overbergschule.de/event/adventstag-4/
END:VEVENT
END:VCALENDAR