BEGIN:VCALENDAR
VERSION:2.0
PRODID:-//Overbergschule - ECPv6.15.20//NONSGML v1.0//EN
CALSCALE:GREGORIAN
METHOD:PUBLISH
X-ORIGINAL-URL:https://overbergschule.de
X-WR-CALDESC:Veranstaltungen für Overbergschule
REFRESH-INTERVAL;VALUE=DURATION:PT1H
X-Robots-Tag:noindex
X-PUBLISHED-TTL:PT1H
BEGIN:VTIMEZONE
TZID:Europe/Berlin
BEGIN:DAYLIGHT
TZOFFSETFROM:+0100
TZOFFSETTO:+0200
TZNAME:CEST
DTSTART:20220327T010000
END:DAYLIGHT
BEGIN:STANDARD
TZOFFSETFROM:+0200
TZOFFSETTO:+0100
TZNAME:CET
DTSTART:20221030T010000
END:STANDARD
BEGIN:DAYLIGHT
TZOFFSETFROM:+0100
TZOFFSETTO:+0200
TZNAME:CEST
DTSTART:20230326T010000
END:DAYLIGHT
BEGIN:STANDARD
TZOFFSETFROM:+0200
TZOFFSETTO:+0100
TZNAME:CET
DTSTART:20231029T010000
END:STANDARD
BEGIN:DAYLIGHT
TZOFFSETFROM:+0100
TZOFFSETTO:+0200
TZNAME:CEST
DTSTART:20240331T010000
END:DAYLIGHT
BEGIN:STANDARD
TZOFFSETFROM:+0200
TZOFFSETTO:+0100
TZNAME:CET
DTSTART:20241027T010000
END:STANDARD
END:VTIMEZONE
BEGIN:VEVENT
DTSTART;TZID=Europe/Berlin:20230908T080000
DTEND;TZID=Europe/Berlin:20230908T090000
DTSTAMP:20260422T040333
CREATED:20230823T165434Z
LAST-MODIFIED:20230823T165434Z
UID:7313-1694160000-1694163600@overbergschule.de
SUMMARY:Waffelbacken (Winter)
DESCRIPTION:
URL:https://overbergschule.de/event/waffelbacken-winter-4/
END:VEVENT
BEGIN:VEVENT
DTSTART;TZID=Europe/Berlin:20230913T080000
DTEND;TZID=Europe/Berlin:20230913T130000
DTSTAMP:20260422T040333
CREATED:20230823T165607Z
LAST-MODIFIED:20230823T165607Z
UID:7319-1694592000-1694610000@overbergschule.de
SUMMARY:Besuch Jugendverkehrsschule Klasse 4
DESCRIPTION:
URL:https://overbergschule.de/event/besuch-jugendverkehrsschule-klasse-4-2/
END:VEVENT
BEGIN:VEVENT
DTSTART;TZID=Europe/Berlin:20230914T180000
DTEND;TZID=Europe/Berlin:20230914T200000
DTSTAMP:20260422T040333
CREATED:20230823T165645Z
LAST-MODIFIED:20230823T165645Z
UID:7322-1694714400-1694721600@overbergschule.de
SUMMARY:1. Schulkonferenz
DESCRIPTION:
URL:https://overbergschule.de/event/1-schulkonferenz-4/
END:VEVENT
BEGIN:VEVENT
DTSTART;TZID=Europe/Berlin:20230916T100000
DTEND;TZID=Europe/Berlin:20230916T120000
DTSTAMP:20260422T040333
CREATED:20230823T165718Z
LAST-MODIFIED:20230823T165718Z
UID:7325-1694858400-1694865600@overbergschule.de
SUMMARY:Instrumentenschnuppertag
DESCRIPTION:
URL:https://overbergschule.de/event/instrumentenschnuppertag-2/
END:VEVENT
BEGIN:VEVENT
DTSTART;VALUE=DATE:20230918
DTEND;VALUE=DATE:20230923
DTSTAMP:20260422T040333
CREATED:20230823T165749Z
LAST-MODIFIED:20230823T165749Z
UID:7328-1694995200-1695427199@overbergschule.de
SUMMARY:Elternsprechwoche
DESCRIPTION:
URL:https://overbergschule.de/event/elternsprechwoche-4/
END:VEVENT
BEGIN:VEVENT
DTSTART;TZID=Europe/Berlin:20230922T080000
DTEND;TZID=Europe/Berlin:20230922T090000
DTSTAMP:20260422T040333
CREATED:20230823T165820Z
LAST-MODIFIED:20230823T165820Z
UID:7331-1695369600-1695373200@overbergschule.de
SUMMARY:Waffelbacken (Frühling)
DESCRIPTION:
URL:https://overbergschule.de/event/waffelbacken-fruehling-5/
END:VEVENT
BEGIN:VEVENT
DTSTART;VALUE=DATE:20230925
DTEND;VALUE=DATE:20230930
DTSTAMP:20260422T040333
CREATED:20230823T165855Z
LAST-MODIFIED:20230823T165855Z
UID:7334-1695600000-1696031999@overbergschule.de
SUMMARY:Klassenfahrt Klasse 3 und 4
DESCRIPTION:
URL:https://overbergschule.de/event/klassenfahrt-klasse-3-und-4/
END:VEVENT
END:VCALENDAR