BEGIN:VCALENDAR
VERSION:2.0
PRODID:-//Overbergschule - ECPv6.15.20//NONSGML v1.0//EN
CALSCALE:GREGORIAN
METHOD:PUBLISH
X-WR-CALNAME:Overbergschule
X-ORIGINAL-URL:https://overbergschule.de
X-WR-CALDESC:Veranstaltungen für Overbergschule
REFRESH-INTERVAL;VALUE=DURATION:PT1H
X-Robots-Tag:noindex
X-PUBLISHED-TTL:PT1H
BEGIN:VTIMEZONE
TZID:Europe/Berlin
BEGIN:DAYLIGHT
TZOFFSETFROM:+0100
TZOFFSETTO:+0200
TZNAME:CEST
DTSTART:20220327T010000
END:DAYLIGHT
BEGIN:STANDARD
TZOFFSETFROM:+0200
TZOFFSETTO:+0100
TZNAME:CET
DTSTART:20221030T010000
END:STANDARD
BEGIN:DAYLIGHT
TZOFFSETFROM:+0100
TZOFFSETTO:+0200
TZNAME:CEST
DTSTART:20230326T010000
END:DAYLIGHT
BEGIN:STANDARD
TZOFFSETFROM:+0200
TZOFFSETTO:+0100
TZNAME:CET
DTSTART:20231029T010000
END:STANDARD
BEGIN:DAYLIGHT
TZOFFSETFROM:+0100
TZOFFSETTO:+0200
TZNAME:CEST
DTSTART:20240331T010000
END:DAYLIGHT
BEGIN:STANDARD
TZOFFSETFROM:+0200
TZOFFSETTO:+0100
TZNAME:CET
DTSTART:20241027T010000
END:STANDARD
END:VTIMEZONE
BEGIN:VEVENT
DTSTART;VALUE=DATE:20230508
DTEND;VALUE=DATE:20230513
DTSTAMP:20260422T095326
CREATED:20230201T131644Z
LAST-MODIFIED:20230201T131644Z
UID:7096-1683504000-1683935999@overbergschule.de
SUMMARY:3. Kindersprechwoche
DESCRIPTION:
URL:https://overbergschule.de/event/3-kindersprechwoche-2/
END:VEVENT
BEGIN:VEVENT
DTSTART;VALUE=DATE:20230518
DTEND;VALUE=DATE:20230519
DTSTAMP:20260422T095326
CREATED:20220908T052440Z
LAST-MODIFIED:20220908T052440Z
UID:6978-1684368000-1684454399@overbergschule.de
SUMMARY:Christi Himmelfahrt (unterrichtsfrei)
DESCRIPTION:
URL:https://overbergschule.de/event/christi-himmelfahrt-unterrichtsfrei-2/
END:VEVENT
BEGIN:VEVENT
DTSTART;VALUE=DATE:20230519
DTEND;VALUE=DATE:20230520
DTSTAMP:20260422T095326
CREATED:20220908T052519Z
LAST-MODIFIED:20220908T052519Z
UID:6981-1684454400-1684540799@overbergschule.de
SUMMARY:bewegl. Ferientag (unterrichtsfrei)
DESCRIPTION:
URL:https://overbergschule.de/event/bewegl-ferientag-unterrichtsfrei-3/
END:VEVENT
BEGIN:VEVENT
DTSTART;TZID=Europe/Berlin:20230525T180000
DTEND;TZID=Europe/Berlin:20230525T200000
DTSTAMP:20260422T095326
CREATED:20230201T131718Z
LAST-MODIFIED:20230201T131718Z
UID:7099-1685037600-1685044800@overbergschule.de
SUMMARY:Schulkonferenz
DESCRIPTION:
URL:https://overbergschule.de/event/schulkonferenz-2/
END:VEVENT
BEGIN:VEVENT
DTSTART;VALUE=DATE:20230529
DTEND;VALUE=DATE:20230531
DTSTAMP:20260422T095326
CREATED:20220908T052403Z
LAST-MODIFIED:20220908T052403Z
UID:6975-1685318400-1685491199@overbergschule.de
SUMMARY:Pfingstferien
DESCRIPTION:
URL:https://overbergschule.de/event/pfingstferien-2/
END:VEVENT
BEGIN:VEVENT
DTSTART;TZID=Europe/Berlin:20230531T110000
DTEND;TZID=Europe/Berlin:20230531T123000
DTSTAMP:20260422T095326
CREATED:20220825T094701Z
LAST-MODIFIED:20220825T094701Z
UID:6944-1685530800-1685536200@overbergschule.de
SUMMARY:Musikalische Schnitzeljagd Theater Hagen
DESCRIPTION:
URL:https://overbergschule.de/event/musikalische-schnitzeljagd-theater-hagen/
END:VEVENT
END:VCALENDAR