BEGIN:VCALENDAR
VERSION:2.0
PRODID:-//Overbergschule - ECPv6.15.20//NONSGML v1.0//EN
CALSCALE:GREGORIAN
METHOD:PUBLISH
X-WR-CALNAME:Overbergschule
X-ORIGINAL-URL:https://overbergschule.de
X-WR-CALDESC:Veranstaltungen für Overbergschule
REFRESH-INTERVAL;VALUE=DURATION:PT1H
X-Robots-Tag:noindex
X-PUBLISHED-TTL:PT1H
BEGIN:VTIMEZONE
TZID:Europe/Berlin
BEGIN:DAYLIGHT
TZOFFSETFROM:+0100
TZOFFSETTO:+0200
TZNAME:CEST
DTSTART:20220327T010000
END:DAYLIGHT
BEGIN:STANDARD
TZOFFSETFROM:+0200
TZOFFSETTO:+0100
TZNAME:CET
DTSTART:20221030T010000
END:STANDARD
BEGIN:DAYLIGHT
TZOFFSETFROM:+0100
TZOFFSETTO:+0200
TZNAME:CEST
DTSTART:20230326T010000
END:DAYLIGHT
BEGIN:STANDARD
TZOFFSETFROM:+0200
TZOFFSETTO:+0100
TZNAME:CET
DTSTART:20231029T010000
END:STANDARD
BEGIN:DAYLIGHT
TZOFFSETFROM:+0100
TZOFFSETTO:+0200
TZNAME:CEST
DTSTART:20240331T010000
END:DAYLIGHT
BEGIN:STANDARD
TZOFFSETFROM:+0200
TZOFFSETTO:+0100
TZNAME:CET
DTSTART:20241027T010000
END:STANDARD
END:VTIMEZONE
BEGIN:VEVENT
DTSTART;TZID=Europe/Berlin:20230207T180000
DTEND;TZID=Europe/Berlin:20230207T190000
DTSTAMP:20260422T141552
CREATED:20230201T130558Z
LAST-MODIFIED:20230201T130558Z
UID:7063-1675792800-1675796400@overbergschule.de
SUMMARY:Klassenpflegschaft (alle Gruppen)
DESCRIPTION:
URL:https://overbergschule.de/event/klassenpflegschaft-alle-gruppen/
END:VEVENT
BEGIN:VEVENT
DTSTART;TZID=Europe/Berlin:20230209T193000
DTEND;TZID=Europe/Berlin:20230209T210000
DTSTAMP:20260422T141552
CREATED:20230201T130710Z
LAST-MODIFIED:20230201T130710Z
UID:7066-1675971000-1675976400@overbergschule.de
SUMMARY:Schulpflegschaft
DESCRIPTION:
URL:https://overbergschule.de/event/schulpflegschaft-2/
END:VEVENT
BEGIN:VEVENT
DTSTART;TZID=Europe/Berlin:20230217T080000
DTEND;TZID=Europe/Berlin:20230217T113500
DTSTAMP:20260422T141552
CREATED:20230201T130752Z
LAST-MODIFIED:20230201T130752Z
UID:7069-1676620800-1676633700@overbergschule.de
SUMMARY:Karnevalsfeier
DESCRIPTION:
URL:https://overbergschule.de/event/karnevalsfeier-2/
END:VEVENT
BEGIN:VEVENT
DTSTART;VALUE=DATE:20230220
DTEND;VALUE=DATE:20230221
DTSTAMP:20260422T141552
CREATED:20220908T052616Z
LAST-MODIFIED:20220908T052616Z
UID:6984-1676851200-1676937599@overbergschule.de
SUMMARY:Rosenmontag (unterrichtsfrei)
DESCRIPTION:
URL:https://overbergschule.de/event/rosenmontag-unterrichtsfrei-2/
END:VEVENT
BEGIN:VEVENT
DTSTART;VALUE=DATE:20230221
DTEND;VALUE=DATE:20230222
DTSTAMP:20260422T141552
CREATED:20220908T052649Z
LAST-MODIFIED:20220908T052649Z
UID:6987-1676937600-1677023999@overbergschule.de
SUMMARY:Bewegl. Ferientag (unterrichtsfrei)
DESCRIPTION:
URL:https://overbergschule.de/event/bewegl-ferientag-unterrichtsfrei-4/
END:VEVENT
BEGIN:VEVENT
DTSTART;TZID=Europe/Berlin:20230223T180000
DTEND;TZID=Europe/Berlin:20230223T190000
DTSTAMP:20260422T141552
CREATED:20230201T130846Z
LAST-MODIFIED:20230201T130846Z
UID:7072-1677175200-1677178800@overbergschule.de
SUMMARY:Infoabend STARK-Training (Klasse 4)
DESCRIPTION:
URL:https://overbergschule.de/event/infoabend-stark-training-klasse-4/
END:VEVENT
END:VCALENDAR