BEGIN:VCALENDAR
VERSION:2.0
PRODID:-//Overbergschule - ECPv6.15.20//NONSGML v1.0//EN
CALSCALE:GREGORIAN
METHOD:PUBLISH
X-WR-CALNAME:Overbergschule
X-ORIGINAL-URL:https://overbergschule.de
X-WR-CALDESC:Veranstaltungen für Overbergschule
REFRESH-INTERVAL;VALUE=DURATION:PT1H
X-Robots-Tag:noindex
X-PUBLISHED-TTL:PT1H
BEGIN:VTIMEZONE
TZID:Europe/Berlin
BEGIN:DAYLIGHT
TZOFFSETFROM:+0100
TZOFFSETTO:+0200
TZNAME:CEST
DTSTART:20210328T010000
END:DAYLIGHT
BEGIN:STANDARD
TZOFFSETFROM:+0200
TZOFFSETTO:+0100
TZNAME:CET
DTSTART:20211031T010000
END:STANDARD
BEGIN:DAYLIGHT
TZOFFSETFROM:+0100
TZOFFSETTO:+0200
TZNAME:CEST
DTSTART:20220327T010000
END:DAYLIGHT
BEGIN:STANDARD
TZOFFSETFROM:+0200
TZOFFSETTO:+0100
TZNAME:CET
DTSTART:20221030T010000
END:STANDARD
BEGIN:DAYLIGHT
TZOFFSETFROM:+0100
TZOFFSETTO:+0200
TZNAME:CEST
DTSTART:20230326T010000
END:DAYLIGHT
BEGIN:STANDARD
TZOFFSETFROM:+0200
TZOFFSETTO:+0100
TZNAME:CET
DTSTART:20231029T010000
END:STANDARD
BEGIN:DAYLIGHT
TZOFFSETFROM:+0100
TZOFFSETTO:+0200
TZNAME:CEST
DTSTART:20240331T010000
END:DAYLIGHT
BEGIN:STANDARD
TZOFFSETFROM:+0200
TZOFFSETTO:+0100
TZNAME:CET
DTSTART:20241027T010000
END:STANDARD
END:VTIMEZONE
BEGIN:VEVENT
DTSTART;TZID=Europe/Berlin:20221202T103000
DTEND;TZID=Europe/Berlin:20221202T113000
DTSTAMP:20260422T174358
CREATED:20220810T131018Z
LAST-MODIFIED:20220810T131018Z
UID:6916-1669977000-1669980600@overbergschule.de
SUMMARY:Putzen der Klassen
DESCRIPTION:
URL:https://overbergschule.de/event/putzen-der-klassen-6/
END:VEVENT
BEGIN:VEVENT
DTSTART;TZID=Europe/Berlin:20221213T160000
DTEND;TZID=Europe/Berlin:20221213T190000
DTSTAMP:20260422T174358
CREATED:20220810T131136Z
LAST-MODIFIED:20220817T101055Z
UID:6922-1670947200-1670958000@overbergschule.de
SUMMARY:Weihnachtsfeier
DESCRIPTION:
URL:https://overbergschule.de/event/weihnachtsfeier-2/
END:VEVENT
BEGIN:VEVENT
DTSTART;TZID=Europe/Berlin:20221221T113000
DTEND;TZID=Europe/Berlin:20221221T130000
DTSTAMP:20260422T174358
CREATED:20221018T090345Z
LAST-MODIFIED:20221018T090345Z
UID:7002-1671622200-1671627600@overbergschule.de
SUMMARY:Besuch Weihnachtsmärchen
DESCRIPTION:
URL:https://overbergschule.de/event/besuch-weihnachtsmaerchen/
END:VEVENT
BEGIN:VEVENT
DTSTART;VALUE=DATE:20221223
DTEND;VALUE=DATE:20230108
DTSTAMP:20260422T174358
CREATED:20220908T052012Z
LAST-MODIFIED:20220908T052012Z
UID:6960-1671753600-1673135999@overbergschule.de
SUMMARY:Weihnachtsferien
DESCRIPTION:
URL:https://overbergschule.de/event/weihnachtsferien-4/
END:VEVENT
END:VCALENDAR