BEGIN:VCALENDAR
VERSION:2.0
PRODID:-//Overbergschule - ECPv6.15.20//NONSGML v1.0//EN
CALSCALE:GREGORIAN
METHOD:PUBLISH
X-WR-CALNAME:Overbergschule
X-ORIGINAL-URL:https://overbergschule.de
X-WR-CALDESC:Veranstaltungen für Overbergschule
REFRESH-INTERVAL;VALUE=DURATION:PT1H
X-Robots-Tag:noindex
X-PUBLISHED-TTL:PT1H
BEGIN:VTIMEZONE
TZID:Europe/Berlin
BEGIN:DAYLIGHT
TZOFFSETFROM:+0100
TZOFFSETTO:+0200
TZNAME:CEST
DTSTART:20210328T010000
END:DAYLIGHT
BEGIN:STANDARD
TZOFFSETFROM:+0200
TZOFFSETTO:+0100
TZNAME:CET
DTSTART:20211031T010000
END:STANDARD
BEGIN:DAYLIGHT
TZOFFSETFROM:+0100
TZOFFSETTO:+0200
TZNAME:CEST
DTSTART:20220327T010000
END:DAYLIGHT
BEGIN:STANDARD
TZOFFSETFROM:+0200
TZOFFSETTO:+0100
TZNAME:CET
DTSTART:20221030T010000
END:STANDARD
BEGIN:DAYLIGHT
TZOFFSETFROM:+0100
TZOFFSETTO:+0200
TZNAME:CEST
DTSTART:20230326T010000
END:DAYLIGHT
BEGIN:STANDARD
TZOFFSETFROM:+0200
TZOFFSETTO:+0100
TZNAME:CET
DTSTART:20231029T010000
END:STANDARD
END:VTIMEZONE
BEGIN:VEVENT
DTSTART;VALUE=DATE:20221101
DTEND;VALUE=DATE:20221102
DTSTAMP:20260422T185440
CREATED:20220810T130421Z
LAST-MODIFIED:20220810T130421Z
UID:6901-1667260800-1667347199@overbergschule.de
SUMMARY:Allerheiligen (unterrichtsfrei)
DESCRIPTION:
URL:https://overbergschule.de/event/allerheiligen-unterrichtsfrei/
END:VEVENT
BEGIN:VEVENT
DTSTART;VALUE=DATE:20221107
DTEND;VALUE=DATE:20221112
DTSTAMP:20260422T185440
CREATED:20220810T130449Z
LAST-MODIFIED:20220810T130449Z
UID:6904-1667779200-1668211199@overbergschule.de
SUMMARY:1. Kindersprechwoche
DESCRIPTION:
URL:https://overbergschule.de/event/1-kindersprechwoche/
END:VEVENT
BEGIN:VEVENT
DTSTART;VALUE=DATE:20221110
DTEND;VALUE=DATE:20221111
DTSTAMP:20260422T185440
CREATED:20220810T130520Z
LAST-MODIFIED:20220810T130520Z
UID:6907-1668038400-1668124799@overbergschule.de
SUMMARY:Pädagogischer Tag (unterrichtsfrei)
DESCRIPTION:
URL:https://overbergschule.de/event/paedagogischer-tag-unterrichtsfrei-3/
END:VEVENT
BEGIN:VEVENT
DTSTART;TZID=Europe/Berlin:20221117T080000
DTEND;TZID=Europe/Berlin:20221117T123000
DTSTAMP:20260422T185440
CREATED:20220825T095405Z
LAST-MODIFIED:20220825T095626Z
UID:6947-1668672000-1668688200@overbergschule.de
SUMMARY:Handball-Aktionstag
DESCRIPTION:
URL:https://overbergschule.de/event/handball-aktionstag/
END:VEVENT
BEGIN:VEVENT
DTSTART;TZID=Europe/Berlin:20221118T080000
DTEND;TZID=Europe/Berlin:20221118T114500
DTSTAMP:20260422T185440
CREATED:20220810T130554Z
LAST-MODIFIED:20220810T130622Z
UID:6910-1668758400-1668771900@overbergschule.de
SUMMARY:Vorlesetag
DESCRIPTION:
URL:https://overbergschule.de/event/vorlesetag-4/
END:VEVENT
BEGIN:VEVENT
DTSTART;TZID=Europe/Berlin:20221124T080000
DTEND;TZID=Europe/Berlin:20221124T123000
DTSTAMP:20260422T185440
CREATED:20220810T130659Z
LAST-MODIFIED:20220810T130659Z
UID:6913-1669276800-1669293000@overbergschule.de
SUMMARY:Adventstag
DESCRIPTION:
URL:https://overbergschule.de/event/adventstag-3/
END:VEVENT
BEGIN:VEVENT
DTSTART;VALUE=DATE:20221125
DTEND;VALUE=DATE:20221126
DTSTAMP:20260422T185440
CREATED:20220810T125411Z
LAST-MODIFIED:20220908T050824Z
UID:6895-1669334400-1669420799@overbergschule.de
SUMMARY:Radfahrprüfung Klasse 4
DESCRIPTION:
URL:https://overbergschule.de/event/radfahrpruefung-klasse-4/
END:VEVENT
END:VCALENDAR