BEGIN:VCALENDAR
VERSION:2.0
PRODID:-//Overbergschule - ECPv6.15.20//NONSGML v1.0//EN
CALSCALE:GREGORIAN
METHOD:PUBLISH
X-WR-CALNAME:Overbergschule
X-ORIGINAL-URL:https://overbergschule.de
X-WR-CALDESC:Veranstaltungen für Overbergschule
REFRESH-INTERVAL;VALUE=DURATION:PT1H
X-Robots-Tag:noindex
X-PUBLISHED-TTL:PT1H
BEGIN:VTIMEZONE
TZID:Europe/Berlin
BEGIN:DAYLIGHT
TZOFFSETFROM:+0100
TZOFFSETTO:+0200
TZNAME:CEST
DTSTART:20210328T010000
END:DAYLIGHT
BEGIN:STANDARD
TZOFFSETFROM:+0200
TZOFFSETTO:+0100
TZNAME:CET
DTSTART:20211031T010000
END:STANDARD
BEGIN:DAYLIGHT
TZOFFSETFROM:+0100
TZOFFSETTO:+0200
TZNAME:CEST
DTSTART:20220327T010000
END:DAYLIGHT
BEGIN:STANDARD
TZOFFSETFROM:+0200
TZOFFSETTO:+0100
TZNAME:CET
DTSTART:20221030T010000
END:STANDARD
BEGIN:DAYLIGHT
TZOFFSETFROM:+0100
TZOFFSETTO:+0200
TZNAME:CEST
DTSTART:20230326T010000
END:DAYLIGHT
BEGIN:STANDARD
TZOFFSETFROM:+0200
TZOFFSETTO:+0100
TZNAME:CET
DTSTART:20231029T010000
END:STANDARD
END:VTIMEZONE
BEGIN:VEVENT
DTSTART;TZID=Europe/Berlin:20220915T180000
DTEND;TZID=Europe/Berlin:20220915T200000
DTSTAMP:20260424T102504
CREATED:20220810T125057Z
LAST-MODIFIED:20220810T125057Z
UID:6883-1663264800-1663272000@overbergschule.de
SUMMARY:1. Schulkonferenz
DESCRIPTION:
URL:https://overbergschule.de/event/1-schulkonferenz-3/
END:VEVENT
BEGIN:VEVENT
DTSTART;TZID=Europe/Berlin:20220917T100000
DTEND;TZID=Europe/Berlin:20220917T113000
DTSTAMP:20260424T102504
CREATED:20220810T125134Z
LAST-MODIFIED:20220908T052923Z
UID:6886-1663408800-1663414200@overbergschule.de
SUMMARY:Instrumentenschnuppertag
DESCRIPTION:
URL:https://overbergschule.de/event/instrumentenschnuppertag/
END:VEVENT
BEGIN:VEVENT
DTSTART;VALUE=DATE:20220919
DTEND;VALUE=DATE:20220924
DTSTAMP:20260424T102504
CREATED:20220810T125215Z
LAST-MODIFIED:20220810T125215Z
UID:6889-1663545600-1663977599@overbergschule.de
SUMMARY:1. Elternsprechwoche
DESCRIPTION:
URL:https://overbergschule.de/event/1-elternsprechwoche-3/
END:VEVENT
BEGIN:VEVENT
DTSTART;VALUE=DATE:20220921
DTEND;VALUE=DATE:20220922
DTSTAMP:20260424T102504
CREATED:20220810T124448Z
LAST-MODIFIED:20220817T101226Z
UID:6867-1663718400-1663804799@overbergschule.de
SUMMARY:Fotografin Frühling/Sommer
DESCRIPTION:
URL:https://overbergschule.de/event/fotografin-fruehling-sommer/
END:VEVENT
BEGIN:VEVENT
DTSTART;VALUE=DATE:20220922
DTEND;VALUE=DATE:20220923
DTSTAMP:20260424T102504
CREATED:20220810T124420Z
LAST-MODIFIED:20220817T101257Z
UID:6864-1663804800-1663891199@overbergschule.de
SUMMARY:Fotografin Herbst/Winter
DESCRIPTION:
URL:https://overbergschule.de/event/fotografin-herbst-winter/
END:VEVENT
BEGIN:VEVENT
DTSTART;TZID=Europe/Berlin:20220930T100000
DTEND;TZID=Europe/Berlin:20220930T113000
DTSTAMP:20260424T102504
CREATED:20220810T125303Z
LAST-MODIFIED:20220810T125303Z
UID:6892-1664532000-1664537400@overbergschule.de
SUMMARY:Putzen der Klassen
DESCRIPTION:
URL:https://overbergschule.de/event/putzen-der-klassen-5/
END:VEVENT
END:VCALENDAR