BEGIN:VCALENDAR
VERSION:2.0
PRODID:-//Overbergschule - ECPv6.15.20//NONSGML v1.0//EN
CALSCALE:GREGORIAN
METHOD:PUBLISH
X-WR-CALNAME:Overbergschule
X-ORIGINAL-URL:https://overbergschule.de
X-WR-CALDESC:Veranstaltungen für Overbergschule
REFRESH-INTERVAL;VALUE=DURATION:PT1H
X-Robots-Tag:noindex
X-PUBLISHED-TTL:PT1H
BEGIN:VTIMEZONE
TZID:Europe/Berlin
BEGIN:DAYLIGHT
TZOFFSETFROM:+0100
TZOFFSETTO:+0200
TZNAME:CEST
DTSTART:20210328T010000
END:DAYLIGHT
BEGIN:STANDARD
TZOFFSETFROM:+0200
TZOFFSETTO:+0100
TZNAME:CET
DTSTART:20211031T010000
END:STANDARD
BEGIN:DAYLIGHT
TZOFFSETFROM:+0100
TZOFFSETTO:+0200
TZNAME:CEST
DTSTART:20220327T010000
END:DAYLIGHT
BEGIN:STANDARD
TZOFFSETFROM:+0200
TZOFFSETTO:+0100
TZNAME:CET
DTSTART:20221030T010000
END:STANDARD
BEGIN:DAYLIGHT
TZOFFSETFROM:+0100
TZOFFSETTO:+0200
TZNAME:CEST
DTSTART:20230326T010000
END:DAYLIGHT
BEGIN:STANDARD
TZOFFSETFROM:+0200
TZOFFSETTO:+0100
TZNAME:CET
DTSTART:20231029T010000
END:STANDARD
END:VTIMEZONE
BEGIN:VEVENT
DTSTART;VALUE=DATE:20220627
DTEND;VALUE=DATE:20220810
DTSTAMP:20260424T114521
CREATED:20211222T134017Z
LAST-MODIFIED:20211222T134017Z
UID:6650-1656288000-1660089599@overbergschule.de
SUMMARY:Sommerferien
DESCRIPTION:
URL:https://overbergschule.de/event/sommerferien-3/
END:VEVENT
BEGIN:VEVENT
DTSTART;TZID=Europe/Berlin:20220816T180000
DTEND;TZID=Europe/Berlin:20220816T200000
DTSTAMP:20260424T114521
CREATED:20220810T124346Z
LAST-MODIFIED:20220810T124346Z
UID:6861-1660672800-1660680000@overbergschule.de
SUMMARY:Klassenpflegschaft Frühling/Sommer
DESCRIPTION:
URL:https://overbergschule.de/event/klassenpflegschaft-fruehling-sommer/
END:VEVENT
BEGIN:VEVENT
DTSTART;TZID=Europe/Berlin:20220817T180000
DTEND;TZID=Europe/Berlin:20220817T200000
DTSTAMP:20260424T114521
CREATED:20220810T124759Z
LAST-MODIFIED:20220810T124759Z
UID:6874-1660759200-1660766400@overbergschule.de
SUMMARY:Klassenpflegschaft Herbst/Winter
DESCRIPTION:
URL:https://overbergschule.de/event/klassenpflegschaft-herbst-winter-2/
END:VEVENT
BEGIN:VEVENT
DTSTART;VALUE=DATE:20220818
DTEND;VALUE=DATE:20220819
DTSTAMP:20260424T114521
CREATED:20220810T124521Z
LAST-MODIFIED:20220810T124719Z
UID:6870-1660780800-1660867199@overbergschule.de
SUMMARY:Tag des Hagener Schulfussballs (Klasse 4)
DESCRIPTION:
URL:https://overbergschule.de/event/klassenpflegschaft-herbst-winter/
END:VEVENT
BEGIN:VEVENT
DTSTART;TZID=Europe/Berlin:20220825T190000
DTEND;TZID=Europe/Berlin:20220825T210000
DTSTAMP:20260424T114521
CREATED:20220810T124838Z
LAST-MODIFIED:20220810T124838Z
UID:6877-1661454000-1661461200@overbergschule.de
SUMMARY:Schulpflegschaftssitzung
DESCRIPTION:
URL:https://overbergschule.de/event/schulpflegschaftssitzung-2/
END:VEVENT
BEGIN:VEVENT
DTSTART;TZID=Europe/Berlin:20220830T080000
DTEND;TZID=Europe/Berlin:20220830T120000
DTSTAMP:20260424T114521
CREATED:20220810T124930Z
LAST-MODIFIED:20220810T124930Z
UID:6880-1661846400-1661860800@overbergschule.de
SUMMARY:Besuch Jugendverkehrsschule (Klasse 4)
DESCRIPTION:
URL:https://overbergschule.de/event/besuch-jugendverkehrsschule-klasse-4/
END:VEVENT
END:VCALENDAR