BEGIN:VCALENDAR
VERSION:2.0
PRODID:-//Overbergschule - ECPv6.15.20//NONSGML v1.0//EN
CALSCALE:GREGORIAN
METHOD:PUBLISH
X-WR-CALNAME:Overbergschule
X-ORIGINAL-URL:https://overbergschule.de
X-WR-CALDESC:Veranstaltungen für Overbergschule
REFRESH-INTERVAL;VALUE=DURATION:PT1H
X-Robots-Tag:noindex
X-PUBLISHED-TTL:PT1H
BEGIN:VTIMEZONE
TZID:Europe/Berlin
BEGIN:DAYLIGHT
TZOFFSETFROM:+0100
TZOFFSETTO:+0200
TZNAME:CEST
DTSTART:20210328T010000
END:DAYLIGHT
BEGIN:STANDARD
TZOFFSETFROM:+0200
TZOFFSETTO:+0100
TZNAME:CET
DTSTART:20211031T010000
END:STANDARD
BEGIN:DAYLIGHT
TZOFFSETFROM:+0100
TZOFFSETTO:+0200
TZNAME:CEST
DTSTART:20220327T010000
END:DAYLIGHT
BEGIN:STANDARD
TZOFFSETFROM:+0200
TZOFFSETTO:+0100
TZNAME:CET
DTSTART:20221030T010000
END:STANDARD
BEGIN:DAYLIGHT
TZOFFSETFROM:+0100
TZOFFSETTO:+0200
TZNAME:CEST
DTSTART:20230326T010000
END:DAYLIGHT
BEGIN:STANDARD
TZOFFSETFROM:+0200
TZOFFSETTO:+0100
TZNAME:CET
DTSTART:20231029T010000
END:STANDARD
END:VTIMEZONE
BEGIN:VEVENT
DTSTART;TZID=Europe/Berlin:20220601T080000
DTEND;TZID=Europe/Berlin:20220601T140000
DTSTAMP:20260424T142109
CREATED:20220517T091813Z
LAST-MODIFIED:20220517T091813Z
UID:6816-1654070400-1654092000@overbergschule.de
SUMMARY:Zoobesuch Dortmund (alle Klassen)
DESCRIPTION:
URL:https://overbergschule.de/event/zoobesuch-dortmund-alle-klassen/
END:VEVENT
BEGIN:VEVENT
DTSTART;TZID=Europe/Berlin:20220602T080000
DTEND;TZID=Europe/Berlin:20220602T120000
DTSTAMP:20260424T142109
CREATED:20211222T133413Z
LAST-MODIFIED:20211222T133413Z
UID:6626-1654156800-1654171200@overbergschule.de
SUMMARY:Sportfest
DESCRIPTION:
URL:https://overbergschule.de/event/sportfest-2/
END:VEVENT
BEGIN:VEVENT
DTSTART;VALUE=DATE:20220606
DTEND;VALUE=DATE:20220607
DTSTAMP:20260424T142109
CREATED:20211222T133444Z
LAST-MODIFIED:20211222T133444Z
UID:6629-1654473600-1654559999@overbergschule.de
SUMMARY:Pfingstmontag (unterrichtsfrei)
DESCRIPTION:
URL:https://overbergschule.de/event/pfingstmontag-unterrichtsfrei/
END:VEVENT
BEGIN:VEVENT
DTSTART;TZID=Europe/Berlin:20220608T180000
DTEND;TZID=Europe/Berlin:20220608T200000
DTSTAMP:20260424T142109
CREATED:20211222T133524Z
LAST-MODIFIED:20211222T133524Z
UID:6632-1654711200-1654718400@overbergschule.de
SUMMARY:3. Schulkonferenz
DESCRIPTION:
URL:https://overbergschule.de/event/3-schulkonferenz-2/
END:VEVENT
BEGIN:VEVENT
DTSTART;TZID=Europe/Berlin:20220615T160000
DTEND;TZID=Europe/Berlin:20220615T180000
DTSTAMP:20260424T142109
CREATED:20220513T090137Z
LAST-MODIFIED:20220513T090137Z
UID:6812-1655308800-1655316000@overbergschule.de
SUMMARY:Aufführung Musical-AG
DESCRIPTION:
URL:https://overbergschule.de/event/auffuehrung-musical-ag/
LOCATION:Christ-König-Kirche
END:VEVENT
BEGIN:VEVENT
DTSTART;VALUE=DATE:20220616
DTEND;VALUE=DATE:20220617
DTSTAMP:20260424T142109
CREATED:20211222T133555Z
LAST-MODIFIED:20211222T133555Z
UID:6635-1655337600-1655423999@overbergschule.de
SUMMARY:Fronleichnam (unterrichtsfrei)
DESCRIPTION:
URL:https://overbergschule.de/event/fronleichnam-unterrichtsfrei/
END:VEVENT
BEGIN:VEVENT
DTSTART;VALUE=DATE:20220617
DTEND;VALUE=DATE:20220618
DTSTAMP:20260424T142109
CREATED:20211222T133650Z
LAST-MODIFIED:20211222T133650Z
UID:6638-1655424000-1655510399@overbergschule.de
SUMMARY:2. Pädagogischer Tag (unterrichtsfrei)
DESCRIPTION:
URL:https://overbergschule.de/event/2-paedagogischer-tag-unterrichtsfrei/
END:VEVENT
BEGIN:VEVENT
DTSTART;TZID=Europe/Berlin:20220621T110000
DTEND;TZID=Europe/Berlin:20220621T120000
DTSTAMP:20260424T142109
CREATED:20211222T133736Z
LAST-MODIFIED:20211222T133736Z
UID:6641-1655809200-1655812800@overbergschule.de
SUMMARY:Zeugnisausgabe (Klasse 1-3)
DESCRIPTION:
URL:https://overbergschule.de/event/zeugnisausgabe-klasse-1-3-2/
END:VEVENT
BEGIN:VEVENT
DTSTART;TZID=Europe/Berlin:20220622T180000
DTEND;TZID=Europe/Berlin:20220622T193000
DTSTAMP:20260424T142109
CREATED:20211222T133832Z
LAST-MODIFIED:20211222T133832Z
UID:6644-1655920800-1655926200@overbergschule.de
SUMMARY:2. Elternabend Schulanfänger 2022/23
DESCRIPTION:
URL:https://overbergschule.de/event/2-elternabend-schulanfaenger-2022-23/
END:VEVENT
BEGIN:VEVENT
DTSTART;TZID=Europe/Berlin:20220624T100000
DTEND;TZID=Europe/Berlin:20220624T113000
DTSTAMP:20260424T142109
CREATED:20211222T133920Z
LAST-MODIFIED:20211222T133939Z
UID:6647-1656064800-1656070200@overbergschule.de
SUMMARY:Abschlussgottesdienst und Zeugnisausgabe Klasse 4
DESCRIPTION:
URL:https://overbergschule.de/event/abschlussgottesdienst-und-zeugnisausgabe-klasse-4/
END:VEVENT
BEGIN:VEVENT
DTSTART;VALUE=DATE:20220627
DTEND;VALUE=DATE:20220810
DTSTAMP:20260424T142109
CREATED:20211222T134017Z
LAST-MODIFIED:20211222T134017Z
UID:6650-1656288000-1660089599@overbergschule.de
SUMMARY:Sommerferien
DESCRIPTION:
URL:https://overbergschule.de/event/sommerferien-3/
END:VEVENT
END:VCALENDAR