BEGIN:VCALENDAR
VERSION:2.0
PRODID:-//Overbergschule - ECPv6.15.20//NONSGML v1.0//EN
CALSCALE:GREGORIAN
METHOD:PUBLISH
X-ORIGINAL-URL:https://overbergschule.de
X-WR-CALDESC:Veranstaltungen für Overbergschule
REFRESH-INTERVAL;VALUE=DURATION:PT1H
X-Robots-Tag:noindex
X-PUBLISHED-TTL:PT1H
BEGIN:VTIMEZONE
TZID:Europe/Berlin
BEGIN:DAYLIGHT
TZOFFSETFROM:+0100
TZOFFSETTO:+0200
TZNAME:CEST
DTSTART:20210328T010000
END:DAYLIGHT
BEGIN:STANDARD
TZOFFSETFROM:+0200
TZOFFSETTO:+0100
TZNAME:CET
DTSTART:20211031T010000
END:STANDARD
BEGIN:DAYLIGHT
TZOFFSETFROM:+0100
TZOFFSETTO:+0200
TZNAME:CEST
DTSTART:20220327T010000
END:DAYLIGHT
BEGIN:STANDARD
TZOFFSETFROM:+0200
TZOFFSETTO:+0100
TZNAME:CET
DTSTART:20221030T010000
END:STANDARD
BEGIN:DAYLIGHT
TZOFFSETFROM:+0100
TZOFFSETTO:+0200
TZNAME:CEST
DTSTART:20230326T010000
END:DAYLIGHT
BEGIN:STANDARD
TZOFFSETFROM:+0200
TZOFFSETTO:+0100
TZNAME:CET
DTSTART:20231029T010000
END:STANDARD
END:VTIMEZONE
BEGIN:VEVENT
DTSTART;VALUE=DATE:20220301
DTEND;VALUE=DATE:20220302
DTSTAMP:20260424T185204
CREATED:20211222T132304Z
LAST-MODIFIED:20211222T132304Z
UID:6590-1646092800-1646179199@overbergschule.de
SUMMARY:bewegl. Ferientag (unterrichtsfrei)
DESCRIPTION:
URL:https://overbergschule.de/event/bewegl-ferientag-unterrichtsfrei/
END:VEVENT
BEGIN:VEVENT
DTSTART;VALUE=DATE:20220302
DTEND;VALUE=DATE:20220303
DTSTAMP:20260424T185204
CREATED:20211222T132334Z
LAST-MODIFIED:20211222T132334Z
UID:6593-1646179200-1646265599@overbergschule.de
SUMMARY:Pädagogischer Tag (unterrichtsfrei)
DESCRIPTION:
URL:https://overbergschule.de/event/paedagogischer-tag-unterrichtsfrei-2/
END:VEVENT
BEGIN:VEVENT
DTSTART;TZID=Europe/Berlin:20220308T180000
DTEND;TZID=Europe/Berlin:20220308T193000
DTSTAMP:20260424T185204
CREATED:20211222T134226Z
LAST-MODIFIED:20211222T134226Z
UID:6656-1646762400-1646767800@overbergschule.de
SUMMARY:2. Schulkonferenz
DESCRIPTION:
URL:https://overbergschule.de/event/2-schulkonferenz-2/
END:VEVENT
BEGIN:VEVENT
DTSTART;TZID=Europe/Berlin:20220315T080000
DTEND;TZID=Europe/Berlin:20220315T140000
DTSTAMP:20260424T185204
CREATED:20220112T134837Z
LAST-MODIFIED:20220211T110112Z
UID:6694-1647331200-1647352800@overbergschule.de
SUMMARY:Schlittschuhlaufen Herbst/Winter
DESCRIPTION:
URL:https://overbergschule.de/event/schlittschuhlaufen-fruehling-sommer/
END:VEVENT
BEGIN:VEVENT
DTSTART;TZID=Europe/Berlin:20220316T080000
DTEND;TZID=Europe/Berlin:20220316T140000
DTSTAMP:20260424T185204
CREATED:20220112T134748Z
LAST-MODIFIED:20220211T110048Z
UID:6691-1647417600-1647439200@overbergschule.de
SUMMARY:Schlittschuhlaufen Frühling/Sommer
DESCRIPTION:
URL:https://overbergschule.de/event/schlittschuhlaufen-herbst-winter/
END:VEVENT
BEGIN:VEVENT
DTSTART;VALUE=DATE:20220328
DTEND;VALUE=DATE:20220402
DTSTAMP:20260424T185204
CREATED:20211222T132459Z
LAST-MODIFIED:20211222T132459Z
UID:6599-1648425600-1648857599@overbergschule.de
SUMMARY:Elternsprechwoche
DESCRIPTION:
URL:https://overbergschule.de/event/elternsprechwoche-2/
END:VEVENT
END:VCALENDAR