BEGIN:VCALENDAR
VERSION:2.0
PRODID:-//Overbergschule - ECPv6.15.20//NONSGML v1.0//EN
CALSCALE:GREGORIAN
METHOD:PUBLISH
X-WR-CALNAME:Overbergschule
X-ORIGINAL-URL:https://overbergschule.de
X-WR-CALDESC:Veranstaltungen für Overbergschule
REFRESH-INTERVAL;VALUE=DURATION:PT1H
X-Robots-Tag:noindex
X-PUBLISHED-TTL:PT1H
BEGIN:VTIMEZONE
TZID:Europe/Berlin
BEGIN:DAYLIGHT
TZOFFSETFROM:+0100
TZOFFSETTO:+0200
TZNAME:CEST
DTSTART:20210328T010000
END:DAYLIGHT
BEGIN:STANDARD
TZOFFSETFROM:+0200
TZOFFSETTO:+0100
TZNAME:CET
DTSTART:20211031T010000
END:STANDARD
BEGIN:DAYLIGHT
TZOFFSETFROM:+0100
TZOFFSETTO:+0200
TZNAME:CEST
DTSTART:20220327T010000
END:DAYLIGHT
BEGIN:STANDARD
TZOFFSETFROM:+0200
TZOFFSETTO:+0100
TZNAME:CET
DTSTART:20221030T010000
END:STANDARD
BEGIN:DAYLIGHT
TZOFFSETFROM:+0100
TZOFFSETTO:+0200
TZNAME:CEST
DTSTART:20230326T010000
END:DAYLIGHT
BEGIN:STANDARD
TZOFFSETFROM:+0200
TZOFFSETTO:+0100
TZNAME:CET
DTSTART:20231029T010000
END:STANDARD
END:VTIMEZONE
BEGIN:VEVENT
DTSTART;VALUE=DATE:20220131
DTEND;VALUE=DATE:20220205
DTSTAMP:20260424T201307
CREATED:20211222T131718Z
LAST-MODIFIED:20211222T131718Z
UID:6568-1643587200-1644019199@overbergschule.de
SUMMARY:2. Kindersprechwoche
DESCRIPTION:
URL:https://overbergschule.de/event/2-kindersprechwoche-2/
END:VEVENT
BEGIN:VEVENT
DTSTART;TZID=Europe/Berlin:20220208T180000
DTEND;TZID=Europe/Berlin:20220208T190000
DTSTAMP:20260424T201307
CREATED:20211222T131813Z
LAST-MODIFIED:20211222T131813Z
UID:6571-1644343200-1644346800@overbergschule.de
SUMMARY:2. Klassenpflegschaftssitzung Frühling und Sommer
DESCRIPTION:
URL:https://overbergschule.de/event/2-klassenpflegschaftssitzung-fruehling-und-sommer/
END:VEVENT
BEGIN:VEVENT
DTSTART;TZID=Europe/Berlin:20220209T180000
DTEND;TZID=Europe/Berlin:20220209T190000
DTSTAMP:20260424T201307
CREATED:20211222T131847Z
LAST-MODIFIED:20211222T131847Z
UID:6574-1644429600-1644433200@overbergschule.de
SUMMARY:2. Klassenpflegschaftssitzung Herbst und Winter
DESCRIPTION:
URL:https://overbergschule.de/event/2-klassenpflegschaftssitzung-herbst-und-winter/
END:VEVENT
BEGIN:VEVENT
DTSTART;TZID=Europe/Berlin:20220209T193000
DTEND;TZID=Europe/Berlin:20220209T203000
DTSTAMP:20260424T201307
CREATED:20211222T131926Z
LAST-MODIFIED:20211222T131926Z
UID:6577-1644435000-1644438600@overbergschule.de
SUMMARY:2. Schulpflegschaftssitzung
DESCRIPTION:
URL:https://overbergschule.de/event/2-schulpflegschaftssitzung/
END:VEVENT
BEGIN:VEVENT
DTSTART;TZID=Europe/Berlin:20220215T180000
DTEND;TZID=Europe/Berlin:20220215T190000
DTSTAMP:20260424T201307
CREATED:20220131T104331Z
LAST-MODIFIED:20220131T104331Z
UID:6704-1644948000-1644951600@overbergschule.de
SUMMARY:Informationsabend STARK-Training
DESCRIPTION:
URL:https://overbergschule.de/event/informationsabend-stark-training/
END:VEVENT
BEGIN:VEVENT
DTSTART;VALUE=DATE:20220221
DTEND;VALUE=DATE:20220226
DTSTAMP:20260424T201307
CREATED:20211222T132130Z
LAST-MODIFIED:20211222T132130Z
UID:6581-1645401600-1645833599@overbergschule.de
SUMMARY:Klassenfahrt Herbst und Winter
DESCRIPTION:
URL:https://overbergschule.de/event/klassenfahrt-herbst-und-winter/
END:VEVENT
BEGIN:VEVENT
DTSTART;TZID=Europe/Berlin:20220225T080000
DTEND;TZID=Europe/Berlin:20220225T113000
DTSTAMP:20260424T201307
CREATED:20211222T132208Z
LAST-MODIFIED:20211222T132208Z
UID:6584-1645776000-1645788600@overbergschule.de
SUMMARY:Karnevalsfeier Frühling und Sommer
DESCRIPTION:
URL:https://overbergschule.de/event/karnevalsfeier-fruehling-und-sommer/
END:VEVENT
BEGIN:VEVENT
DTSTART;VALUE=DATE:20220228
DTEND;VALUE=DATE:20220301
DTSTAMP:20260424T201307
CREATED:20211222T132236Z
LAST-MODIFIED:20211222T132236Z
UID:6587-1646006400-1646092799@overbergschule.de
SUMMARY:Rosenmontag (unterrichtsfrei)
DESCRIPTION:
URL:https://overbergschule.de/event/rosenmontag-unterrichtsfrei/
END:VEVENT
END:VCALENDAR